Workbook
Name Excel_BuiltIn_Print_Area: NA()

Sheet Teljes Záradék
A2: Megbízó:
A3: Pomáz Város Önkormányzata
A4: 2013 Pomáz, Kossuth Lajos utca 23.
C5: Készült: 2026 október
C6: Felső szintű költségvetés (40%)
A8: A munka leírása:
A9: Pomáz - Parkoló bővítés Kossuth Lajos utca 30., Hrsz.: 42
A16: Megnevezés | C16: Anyagköltség | D16: Díjköltség
A17: 1. Építmény közvetlen költségei | C17: ='Út-parkoló'!G20 -> 0 | D17: ='Út-parkoló'!H20 -> 0
A19: 2.1 ÁFA vetítési alap | C19: =C17+D17 -> 0
A20: 2.2 Áfa | B20: 0.27 | C20: =C19/100*27 -> 0
A21: 3. A munka ára | C21: =C19+C20 -> 0
B25: Aláírás

Sheet Út-parkoló
C1: AJÁNLATTÉTELI LAP
C2: Pomáz, Kossuth Lajos u. 30. ingatlanon parkoló bővítése
A4: Fsz | B4: Tétel megnevezése | C4: Mennyiség | D4: Egység | E4: Anyag | F4: Díj | G4: Anyag összesen | H4: Díj összesen
A5: 1./ Előkészítő munkák
A6: 1. | B6: Kitűzés - helyszínrajzi, magassági kitűzés- a kivitelezés folyamatára | C6: 231 | D6: m2 | E6: 0 | F6: 0 | G6: ='Út-parkoló'!C6*'Út-parkoló'!E6 -> 0 | H6: =C6*F6 -> 0
A7: 5. | B7: Bevágási szelvény készítése - átlag 20 cm vastagságban -, kitermelt altalaj szállítása lerakóba, lerakóhelyi díjjal, lerakóhelyi díj az anyagköltségben elszámolva | C7: 65 | D7: m3 | E7: 0 | F7: 0 | G7: ='Út-parkoló'!C7*'Út-parkoló'!E7 -> 0 | H7: =C7*F7 -> 0
A8: 6. | B8: Tükör készítés | C8: 231.166 | D8: m2 | E8: 0 | F8: 0 | G8: ='Út-parkoló'!C8*'Út-parkoló'!E8 -> 0 | H8: =C8*F8 -> 0
A9: 7. | B9: Töltésépítés burkolt felöletek alatt | C9: 15 | D9: m3 | E9: 0 | F9: 0 | G9: ='Út-parkoló'!C9*'Út-parkoló'!E9 -> 0 | H9: =C9*F9 -> 0
A10: 8. | B10: Tömörítés bármely tömörítési osztályban gépi erővel, nagy felületen, tömörségi fok: 95% | C10: =C8 -> 231.166 | D10: m2 | E10: 0 | F10: 0 | G10: ='Út-parkoló'!C10*'Út-parkoló'!E10 -> 0 | H10: =C10*F10 -> 0
A11: Összesen: | G11: =SUM(G6:G10) -> 0 | H11: =SUM(H6:H10) -> 0
A12: 2./ Építések (előirányzott mennyiségek):
A13: 10. | B13: Z0/63 zúzottkő út alap készítése tömörítéssel | C13: 51 | D13: m3 | E13: 0 | F13: 0 | G13: =C13*E13 -> 0 | H13: =C13*F13 -> 0
A14: 12. | B14: Útszegély építése C20/25-XF4-32-F2-MSZ minőségű a MSZ 4798-1:2004 szerint, betonba ágyazva, cementhabarcs fugázással | C14: 71 | D14: m | E14: 0 | F14: 0 | G14: =C14*E14 -> 0 | H14: =C14*F14 -> 0
A15: 14. | B15: Z0/32 zúzott kőalap készítése tömörítássel | C15: 35 | D15: m3 | E15: 0 | F15: 0 | G15: =C15*E15 -> 0 | H15: =C15*F15 -> 0
A16: 15. | B16: Z0/22 kiékelő zúzalék terítése, tömörítése útfelületen | C16: 12 | D16: m3 | E16: 0 | F16: 0 | G16: =C16*E16 -> 0 | H16: =C16*F16 -> 0
A17: 16. | B17: Meglévő útpálya felületének fellazítása - szántása -, 0/22-es zúzalék pótlással a felület kiegyenlítése, tömörítése | C17: 14 | D17: m3 | E17: 0 | F17: 0 | G17: =C17*E17 -> 0 | H17: =C17*F17 -> 0
A18: 21. | B18: Fel-levonulás | C18: 1 | D18: db | E18: 0 | F18: 0 | G18: =C18*E18 -> 0 | H18: =C18*F18 -> 0
A19: Összesen: | G19: =SUM(G13:G18) -> 0 | H19: =SUM(H13:H18) -> 0
A20: Mindösszesen 1-2: | G20: =G11+G19 -> 0 | H20: =H11+H19 -> 0
